BEGIN:VCALENDAR
VERSION:2.0
PRODID:-//Imkerverein-Creussen - ECPv6.15.18//NONSGML v1.0//EN
CALSCALE:GREGORIAN
METHOD:PUBLISH
X-ORIGINAL-URL:https://imkerverein-creussen.de
X-WR-CALDESC:Veranstaltungen für Imkerverein-Creussen
REFRESH-INTERVAL;VALUE=DURATION:PT1H
X-Robots-Tag:noindex
X-PUBLISHED-TTL:PT1H
BEGIN:VTIMEZONE
TZID:UTC
BEGIN:STANDARD
TZOFFSETFROM:+0000
TZOFFSETTO:+0000
TZNAME:UTC
DTSTART:20230101T000000
END:STANDARD
END:VTIMEZONE
BEGIN:VEVENT
DTSTART;TZID=UTC:20241203T190000
DTEND;TZID=UTC:20241203T210000
DTSTAMP:20260421T115822
CREATED:20241103T202404Z
LAST-MODIFIED:20241103T202545Z
UID:4766-1733252400-1733259600@imkerverein-creussen.de
SUMMARY:Jahreshauptversammlung 2024 & kleine Weihnachtsfeier (intern)
DESCRIPTION:Interne Jahreshauptversammlung 2024 & kleine Weihnachtsfeier. \nTeilnahme nur für Mitglieder des Imkervereins Creußen. \n  \nAnfahrt zum Feuerwehrhaus Büchenbach/ Pegnitz (google maps)
URL:https://imkerverein-creussen.de/kalender/jahreshauptversammlung-2024-kleine-weihnachtsfeier-intern
LOCATION:Feuerwehrhaus Büchenbach\, Körbelsdorfer Weg 3\, Büchenbach (b. Pegnitz)\, 91257
ORGANIZER;CN="Imkerverein Creu%C3%9Fen":MAILTO:info@imkerverein-creussen.de
END:VEVENT
END:VCALENDAR