BEGIN:VCALENDAR
VERSION:2.0
PRODID:-//Imkerverein-Creussen - ECPv6.15.20//NONSGML v1.0//EN
CALSCALE:GREGORIAN
METHOD:PUBLISH
X-ORIGINAL-URL:https://imkerverein-creussen.de
X-WR-CALDESC:Veranstaltungen für Imkerverein-Creussen
REFRESH-INTERVAL;VALUE=DURATION:PT1H
X-Robots-Tag:noindex
X-PUBLISHED-TTL:PT1H
BEGIN:VTIMEZONE
TZID:UTC
BEGIN:STANDARD
TZOFFSETFROM:+0000
TZOFFSETTO:+0000
TZNAME:UTC
DTSTART:20230101T000000
END:STANDARD
END:VTIMEZONE
BEGIN:VEVENT
DTSTART;TZID=UTC:20241001T190000
DTEND;TZID=UTC:20241001T210000
DTSTAMP:20260421T151720
CREATED:20240410T140246Z
LAST-MODIFIED:20240927T134541Z
UID:4512-1727809200-1727816400@imkerverein-creussen.de
SUMMARY:Königinnen : Vermehrung für die eigene Imkerei
DESCRIPTION:Schulungsthema: \n„Königinnen : Vermehrung für die eigene Imkerei“ \nReferent: Helmut Mann (Bienensachverständiger) \nund „Wie gehe ich beim Verdampfen mit Oxalsäure vor – Anwendung\, Sicherheit und Gefahrenhinweise“\, ein Kurzüberblick mit Anton Herzing \n 
URL:https://imkerverein-creussen.de/kalender/die-oxalsaeurebehandlung-durch-verdampfen
LOCATION:Feuerwehrhaus Büchenbach\, Körbelsdorfer Weg 3\, Büchenbach (b. Pegnitz)\, 91257
ORGANIZER;CN="Imkerverein Creu%C3%9Fen":MAILTO:info@imkerverein-creussen.de
END:VEVENT
END:VCALENDAR