BEGIN:VCALENDAR
VERSION:2.0
PRODID:-//Imkerverein-Creussen - ECPv6.15.20//NONSGML v1.0//EN
CALSCALE:GREGORIAN
METHOD:PUBLISH
X-ORIGINAL-URL:https://imkerverein-creussen.de
X-WR-CALDESC:Veranstaltungen für Imkerverein-Creussen
REFRESH-INTERVAL;VALUE=DURATION:PT1H
X-Robots-Tag:noindex
X-PUBLISHED-TTL:PT1H
BEGIN:VTIMEZONE
TZID:UTC
BEGIN:STANDARD
TZOFFSETFROM:+0000
TZOFFSETTO:+0000
TZNAME:UTC
DTSTART:20230101T000000
END:STANDARD
END:VTIMEZONE
BEGIN:VEVENT
DTSTART;TZID=UTC:20240409T190000
DTEND;TZID=UTC:20240409T210000
DTSTAMP:20260422T012951
CREATED:20240117T160049Z
LAST-MODIFIED:20240117T160049Z
UID:3817-1712689200-1712696400@imkerverein-creussen.de
SUMMARY:Honigraumfreigabe und Erweitern -  Wie und wann setzte ich die Dronenrahmen
DESCRIPTION:Schulungsthemen: \n\nHonigraumfreigabe und Erweitern\nWie und wann setzte ich die Dronenrahmen\n\nReferent: Anton Herzing \nAnmerkung: Bei schlechtem Wetter treffen wir uns im Feuerwehrhaus in Büchenbach \nAnfahrt zum Lehrbienenstand (google maps)
URL:https://imkerverein-creussen.de/kalender/schulungsabend-honigraumfreigabe-und-erweitern-wie-und-wann-setzte-ich-die-dronenrahmen-3
LOCATION:Imkerverein Creußen – Lehrbienenstand\, Körbeldorfer Weg\, Büchenbach (b. Pegnitz)\, 91257
ORGANIZER;CN="Imkerverein Creu%C3%9Fen":MAILTO:info@imkerverein-creussen.de
END:VEVENT
BEGIN:VEVENT
DTSTART;TZID=UTC:20240413T100000
DTEND;TZID=UTC:20240413T140000
DTSTAMP:20260422T012951
CREATED:20240410T133531Z
LAST-MODIFIED:20240410T134534Z
UID:4498-1713002400-1713016800@imkerverein-creussen.de
SUMMARY:Reinigung und Instandsetzung des Bienenlehrpfads
DESCRIPTION:Am kommenden Samstag\, den 13. April 2024 ab 10:00 Uhr wollen wir unseren Imkerlehrbienenpfad in einer gemeinschaftlichen Aktion wieder auf Vordermann bringen. Ihr seid alle herzlich eingeladen\, mit entsprechender Ausrüstung wie Heckenschere\, Putzlappen\, Gartenwerkzeug etc. am Lehrbienenstand einzutreffen und tatkräftig mitzuhelfen. Wir freuen uns auf Euch und u.a. auch auf wieder frei geschnittene\, feststehende und saubere Informationstafeln. Bis Samstag! 🐝🐝🌳 \nTreffen um 10:00 Uhr am Lehrbienenstand \nAnfahrt zum Lehrbienenstand (google maps)
URL:https://imkerverein-creussen.de/kalender/4498
LOCATION:Imkerverein Creußen – Lehrbienenstand\, Körbeldorfer Weg\, Büchenbach (b. Pegnitz)\, 91257
ORGANIZER;CN="Imkerverein Creu%C3%9Fen":MAILTO:info@imkerverein-creussen.de
END:VEVENT
BEGIN:VEVENT
DTSTART;TZID=UTC:20240428T133000
DTEND;TZID=UTC:20240428T170000
DTSTAMP:20260422T012951
CREATED:20240410T134316Z
LAST-MODIFIED:20240410T134552Z
UID:4500-1714311000-1714323600@imkerverein-creussen.de
SUMMARY:Treffen mit den Imkern des Kreisverband Imker Rosenheim
DESCRIPTION:Am Sonntag\, den 28. April 2024 bekommen wir Besuch durch den Kreisverband Imker Rosenheim. \nDie Imker machen im Rahmen ihrer diesjährigen Imkerlehrfahrt einen Stop an unserem Bienenlehrstand in Büchenbach. \nVereinsmitglieder und Interessierte sind gerne eingeladen zu einem Erfahrungsaustausch mit unseren Gästen dazuzukommen. \nWer möchte\, darf auch gerne einen Kuchen mitbringen. Dazu bitte kurz eine Rückmeldung in unserer WhatsApp Gruppe geben. \nBis dann. \nAnfahrt zum Lehrbienenstand (google maps)
URL:https://imkerverein-creussen.de/kalender/treffen-mit-den-imkern-des-kreisverband-imker-rosenheim
LOCATION:Imkerverein Creußen – Lehrbienenstand\, Körbeldorfer Weg\, Büchenbach (b. Pegnitz)\, 91257
ORGANIZER;CN="Imkerverein Creu%C3%9Fen":MAILTO:info@imkerverein-creussen.de
END:VEVENT
END:VCALENDAR