BEGIN:VCALENDAR
VERSION:2.0
PRODID:-//Imkerverein-Creussen - ECPv6.15.20//NONSGML v1.0//EN
CALSCALE:GREGORIAN
METHOD:PUBLISH
X-WR-CALNAME:Imkerverein-Creussen
X-ORIGINAL-URL:https://imkerverein-creussen.de
X-WR-CALDESC:Veranstaltungen für Imkerverein-Creussen
REFRESH-INTERVAL;VALUE=DURATION:PT1H
X-Robots-Tag:noindex
X-PUBLISHED-TTL:PT1H
BEGIN:VTIMEZONE
TZID:UTC
BEGIN:STANDARD
TZOFFSETFROM:+0000
TZOFFSETTO:+0000
TZNAME:UTC
DTSTART:20230101T000000
END:STANDARD
END:VTIMEZONE
BEGIN:VEVENT
DTSTART;TZID=UTC:20240206T190000
DTEND;TZID=UTC:20240206T210000
DTSTAMP:20260424T135111
CREATED:20240117T152716Z
LAST-MODIFIED:20240117T170110Z
UID:3812-1707246000-1707253200@imkerverein-creussen.de
SUMMARY:Imkerei und Landwirtschaft\, gemeinsame Wege & Durchlenzung\, und anstehende Frühjahrsarbeiten
DESCRIPTION:Schulungsabend zu folgenden Themen: \n„Imkerei und Landwirtschaft\, gemeinsame Wege“  \n„Durchlenzung und anstehende Frühjahrsarbeiten“ \nReferenten: Anton Herzing und Frank Udo Kimm
URL:https://imkerverein-creussen.de/kalender/durchlenzung-und-anstehende-fruehjahrsarbeiten-2
LOCATION:Feuerwehrhaus Büchenbach\, Körbelsdorfer Weg 3\, Büchenbach (b. Pegnitz)\, 91257
ORGANIZER;CN="Imkerverein Creu%C3%9Fen":MAILTO:info@imkerverein-creussen.de
END:VEVENT
END:VCALENDAR