BEGIN:VCALENDAR
VERSION:2.0
PRODID:-//Imkerverein-Creussen - ECPv6.15.20//NONSGML v1.0//EN
CALSCALE:GREGORIAN
METHOD:PUBLISH
X-WR-CALNAME:Imkerverein-Creussen
X-ORIGINAL-URL:https://imkerverein-creussen.de
X-WR-CALDESC:Veranstaltungen für Imkerverein-Creussen
REFRESH-INTERVAL;VALUE=DURATION:PT1H
X-Robots-Tag:noindex
X-PUBLISHED-TTL:PT1H
BEGIN:VTIMEZONE
TZID:UTC
BEGIN:STANDARD
TZOFFSETFROM:+0000
TZOFFSETTO:+0000
TZNAME:UTC
DTSTART:20230101T000000
END:STANDARD
END:VTIMEZONE
BEGIN:VEVENT
DTSTART;TZID=UTC:20240702T190000
DTEND;TZID=UTC:20240702T210000
DTSTAMP:20260421T214240
CREATED:20240410T135702Z
LAST-MODIFIED:20240410T135702Z
UID:4508-1719946800-1719954000@imkerverein-creussen.de
SUMMARY:Varroabehandlungsmethoden\, Abscheuern\, Futtergabe
DESCRIPTION:Schulungsthema: \nDie verschiedenen Varroabehandlungmnethoden\, Abschleudern und die Futtergabe. \nEventuell die Ausgabe der Varroabehandlungsmittel. \nReferent: Anton Herzing \nAnfahrt zum Lehrbienenstand (google maps)
URL:https://imkerverein-creussen.de/kalender/varroabehandlungsmethoden-abscheuern-futtergabe
LOCATION:Imkerverein Creußen – Lehrbienenstand\, Körbeldorfer Weg\, Büchenbach (b. Pegnitz)\, 91257
ORGANIZER;CN="Imkerverein Creu%C3%9Fen":MAILTO:info@imkerverein-creussen.de
END:VEVENT
END:VCALENDAR