BEGIN:VCALENDAR
VERSION:2.0
PRODID:-//Imkerverein-Creussen - ECPv6.15.20//NONSGML v1.0//EN
CALSCALE:GREGORIAN
METHOD:PUBLISH
X-ORIGINAL-URL:https://imkerverein-creussen.de
X-WR-CALDESC:Veranstaltungen für Imkerverein-Creussen
REFRESH-INTERVAL;VALUE=DURATION:PT1H
X-Robots-Tag:noindex
X-PUBLISHED-TTL:PT1H
BEGIN:VTIMEZONE
TZID:UTC
BEGIN:STANDARD
TZOFFSETFROM:+0000
TZOFFSETTO:+0000
TZNAME:UTC
DTSTART:20230101T000000
END:STANDARD
END:VTIMEZONE
BEGIN:VEVENT
DTSTART;TZID=UTC:20240507T190000
DTEND;TZID=UTC:20240507T210000
DTSTAMP:20260422T012648
CREATED:20240117T160435Z
LAST-MODIFIED:20240117T160435Z
UID:3819-1715108400-1715115600@imkerverein-creussen.de
SUMMARY:Schwarmvermeidung\, und was tun wenn es doch passiert.
DESCRIPTION:Schulungsthema: \n„Schwarmvermeidung\, und was tun wenn es doch passiert.“ \nReferent: Anton Herzing \nAnfahrt zum Lehrbienenstand (google maps)
URL:https://imkerverein-creussen.de/kalender/schulungsabend-honigraumfreigabe-und-erweitern-wie-und-wann-setzte-ich-die-dronenrahmen-3-2
LOCATION:Imkerverein Creußen – Lehrbienenstand\, Körbeldorfer Weg\, Büchenbach (b. Pegnitz)\, 91257
ORGANIZER;CN="Imkerverein Creu%C3%9Fen":MAILTO:info@imkerverein-creussen.de
END:VEVENT
END:VCALENDAR